BEGIN:VCALENDAR
VERSION:2.0
PRODID:-//Reitverein Wiesloch - ECPv6.15.11//NONSGML v1.0//EN
CALSCALE:GREGORIAN
METHOD:PUBLISH
X-ORIGINAL-URL:https://reitverein-wiesloch.de
X-WR-CALDESC:Veranstaltungen für Reitverein Wiesloch
REFRESH-INTERVAL;VALUE=DURATION:PT1H
X-Robots-Tag:noindex
X-PUBLISHED-TTL:PT1H
BEGIN:VTIMEZONE
TZID:Europe/Berlin
BEGIN:DAYLIGHT
TZOFFSETFROM:+0100
TZOFFSETTO:+0200
TZNAME:CEST
DTSTART:20240331T010000
END:DAYLIGHT
BEGIN:STANDARD
TZOFFSETFROM:+0200
TZOFFSETTO:+0100
TZNAME:CET
DTSTART:20241027T010000
END:STANDARD
BEGIN:DAYLIGHT
TZOFFSETFROM:+0100
TZOFFSETTO:+0200
TZNAME:CEST
DTSTART:20250330T010000
END:DAYLIGHT
BEGIN:STANDARD
TZOFFSETFROM:+0200
TZOFFSETTO:+0100
TZNAME:CET
DTSTART:20251026T010000
END:STANDARD
BEGIN:DAYLIGHT
TZOFFSETFROM:+0100
TZOFFSETTO:+0200
TZNAME:CEST
DTSTART:20260329T010000
END:DAYLIGHT
BEGIN:STANDARD
TZOFFSETFROM:+0200
TZOFFSETTO:+0100
TZNAME:CET
DTSTART:20261025T010000
END:STANDARD
END:VTIMEZONE
BEGIN:VEVENT
DTSTART;TZID=Europe/Berlin:20250112T130000
DTEND;TZID=Europe/Berlin:20250112T160000
DTSTAMP:20260424T165823
CREATED:20250102T153151Z
LAST-MODIFIED:20250102T153151Z
UID:6295-1736686800-1736697600@reitverein-wiesloch.de
SUMMARY:Winterreiten mit Rahmenprogramm
DESCRIPTION:Ein Ponyführen der besonderen Art mit Vorführungen durch Reiter und Voltigierer &#8211; für Verpflegung ist natürlich auch gesorgt.
URL:https://reitverein-wiesloch.de/veranstaltung/winterreiten-mit-rahmenprogramm/
LOCATION:Reit- und Fahrverein Wiesloch\, Reitplatzweg 17\, 69168 Wiesloch
END:VEVENT
END:VCALENDAR