BEGIN:VCALENDAR
VERSION:2.0
PRODID:-//Reitverein Wiesloch - ECPv6.15.11//NONSGML v1.0//EN
CALSCALE:GREGORIAN
METHOD:PUBLISH
X-WR-CALNAME:Reitverein Wiesloch
X-ORIGINAL-URL:https://reitverein-wiesloch.de
X-WR-CALDESC:Veranstaltungen für Reitverein Wiesloch
REFRESH-INTERVAL;VALUE=DURATION:PT1H
X-Robots-Tag:noindex
X-PUBLISHED-TTL:PT1H
BEGIN:VTIMEZONE
TZID:Europe/Berlin
BEGIN:DAYLIGHT
TZOFFSETFROM:+0100
TZOFFSETTO:+0200
TZNAME:CEST
DTSTART:20230326T010000
END:DAYLIGHT
BEGIN:STANDARD
TZOFFSETFROM:+0200
TZOFFSETTO:+0100
TZNAME:CET
DTSTART:20231029T010000
END:STANDARD
BEGIN:DAYLIGHT
TZOFFSETFROM:+0100
TZOFFSETTO:+0200
TZNAME:CEST
DTSTART:20240331T010000
END:DAYLIGHT
BEGIN:STANDARD
TZOFFSETFROM:+0200
TZOFFSETTO:+0100
TZNAME:CET
DTSTART:20241027T010000
END:STANDARD
BEGIN:DAYLIGHT
TZOFFSETFROM:+0100
TZOFFSETTO:+0200
TZNAME:CEST
DTSTART:20250330T010000
END:DAYLIGHT
BEGIN:STANDARD
TZOFFSETFROM:+0200
TZOFFSETTO:+0100
TZNAME:CET
DTSTART:20251026T010000
END:STANDARD
END:VTIMEZONE
BEGIN:VEVENT
DTSTART;TZID=Europe/Berlin:20240608T110000
DTEND;TZID=Europe/Berlin:20240608T150000
DTSTAMP:20260425T034127
CREATED:20240528T081624Z
LAST-MODIFIED:20240528T082122Z
UID:6192-1717844400-1717858800@reitverein-wiesloch.de
SUMMARY:Arbeitseinsatz
DESCRIPTION:
URL:https://reitverein-wiesloch.de/veranstaltung/6192/
LOCATION:Reit- und Fahrverein Wiesloch\, Reitplatzweg 17\, 69168 Wiesloch
END:VEVENT
BEGIN:VEVENT
DTSTART;TZID=Europe/Berlin:20240615T110000
DTEND;TZID=Europe/Berlin:20240615T150000
DTSTAMP:20260425T034127
CREATED:20240528T082318Z
LAST-MODIFIED:20240528T082318Z
UID:6200-1718449200-1718463600@reitverein-wiesloch.de
SUMMARY:Arbeitseinsatz
DESCRIPTION:
URL:https://reitverein-wiesloch.de/veranstaltung/arbeitseinsatz/
LOCATION:Reit- und Fahrverein Wiesloch\, Reitplatzweg 17\, 69168 Wiesloch
END:VEVENT
BEGIN:VEVENT
DTSTART;TZID=Europe/Berlin:20240622T110000
DTEND;TZID=Europe/Berlin:20240622T150000
DTSTAMP:20260425T034127
CREATED:20240528T082419Z
LAST-MODIFIED:20240528T082419Z
UID:6202-1719054000-1719068400@reitverein-wiesloch.de
SUMMARY:Arbeitseinsatz
DESCRIPTION:
URL:https://reitverein-wiesloch.de/veranstaltung/arbeitseinsatz-2/
LOCATION:Reit- und Fahrverein Wiesloch\, Reitplatzweg 17\, 69168 Wiesloch
END:VEVENT
BEGIN:VEVENT
DTSTART;VALUE=DATE:20240624
DTEND;VALUE=DATE:20240628
DTSTAMP:20260425T034127
CREATED:20240528T082538Z
LAST-MODIFIED:20240528T082538Z
UID:6204-1719187200-1719532799@reitverein-wiesloch.de
SUMMARY:Arbeitseinsatz
DESCRIPTION:
URL:https://reitverein-wiesloch.de/veranstaltung/arbeitseinsatz-3/
LOCATION:Reit- und Fahrverein Wiesloch\, Reitplatzweg 17\, 69168 Wiesloch
END:VEVENT
BEGIN:VEVENT
DTSTART;VALUE=DATE:20240628
DTEND;VALUE=DATE:20240701
DTSTAMP:20260425T034127
CREATED:20240528T083108Z
LAST-MODIFIED:20240528T083108Z
UID:6206-1719532800-1719791999@reitverein-wiesloch.de
SUMMARY:Reitturnier 2024
DESCRIPTION:
URL:https://reitverein-wiesloch.de/veranstaltung/reitturnier-2024/
LOCATION:Reit- und Fahrverein Wiesloch\, Reitplatzweg 17\, 69168 Wiesloch
END:VEVENT
END:VCALENDAR