BEGIN:VCALENDAR
VERSION:2.0
PRODID:-//Reitverein Wiesloch - ECPv6.15.11//NONSGML v1.0//EN
CALSCALE:GREGORIAN
METHOD:PUBLISH
X-WR-CALNAME:Reitverein Wiesloch
X-ORIGINAL-URL:https://reitverein-wiesloch.de
X-WR-CALDESC:Veranstaltungen für Reitverein Wiesloch
REFRESH-INTERVAL;VALUE=DURATION:PT1H
X-Robots-Tag:noindex
X-PUBLISHED-TTL:PT1H
BEGIN:VTIMEZONE
TZID:Europe/Berlin
BEGIN:DAYLIGHT
TZOFFSETFROM:+0100
TZOFFSETTO:+0200
TZNAME:CEST
DTSTART:20250330T010000
END:DAYLIGHT
BEGIN:STANDARD
TZOFFSETFROM:+0200
TZOFFSETTO:+0100
TZNAME:CET
DTSTART:20251026T010000
END:STANDARD
BEGIN:DAYLIGHT
TZOFFSETFROM:+0100
TZOFFSETTO:+0200
TZNAME:CEST
DTSTART:20260329T010000
END:DAYLIGHT
BEGIN:STANDARD
TZOFFSETFROM:+0200
TZOFFSETTO:+0100
TZNAME:CET
DTSTART:20261025T010000
END:STANDARD
BEGIN:DAYLIGHT
TZOFFSETFROM:+0100
TZOFFSETTO:+0200
TZNAME:CEST
DTSTART:20270328T010000
END:DAYLIGHT
BEGIN:STANDARD
TZOFFSETFROM:+0200
TZOFFSETTO:+0100
TZNAME:CET
DTSTART:20271031T010000
END:STANDARD
END:VTIMEZONE
BEGIN:VEVENT
DTSTART;TZID=Europe/Berlin:20260510T140000
DTEND;TZID=Europe/Berlin:20260510T160000
DTSTAMP:20260421T174719
CREATED:20260420T220824Z
LAST-MODIFIED:20260420T220824Z
UID:6791-1778421600-1778428800@reitverein-wiesloch.de
SUMMARY:Ponyreiten
DESCRIPTION:Am 10.05.2026 findet auf der Reitanlage des Reit- und Fahrvereins Wiesloch ein kostenfreies\, geführtes Ponyreiten für Kinder statt. Die kleinen Besucher können dabei erste Erfahrungen im Umgang mit unseren Ponys sammeln und sich behutsam an das Reiten herantasten. \nFür kleine Snacks und Getränke ist gesorgt. Unsere vierbeinigen Helfer freuen sich über eine kleine Spende.
URL:https://reitverein-wiesloch.de/veranstaltung/ponyreiten-7/
LOCATION:Reit- und Fahrverein Wiesloch\, Reitplatzweg 17\, 69168 Wiesloch
END:VEVENT
BEGIN:VEVENT
DTSTART;VALUE=DATE:20260626
DTEND;VALUE=DATE:20260629
DTSTAMP:20260421T174719
CREATED:20260420T220706Z
LAST-MODIFIED:20260420T220706Z
UID:6789-1782432000-1782691199@reitverein-wiesloch.de
SUMMARY:Reitturnier 2026
DESCRIPTION:Der Reit- und Fahrverein Wiesloch lädt auch in diesem Jahr zu seinem alljährlichen Reitturnier auf der Vereinsanlage ein. Reiterinnen und Reiter aus der Region und darüber hinaus messen sich in Dressurprüfungen bis zur Klasse L sowie Springprüfungen bis zur Klasse M. \nFreitag bis Sonntag erwartet die Besucher ein abwechslungsreiches sportliches Programm – von talentierten Nachwuchsreitern bis hin zu erfahrenen Turnierpaaren ist alles vertreten. Für das leibliche Wohl ist selbstverständlich gesorgt\, und Zuschauer können die Prüfungen in entspannter Umgebung verfolgen. \nWir freuen uns auf spannende Ritte\, faire Wettkämpfe und viele Gäste\, die unsere Reiterinnen und Reiter unterstützen.
URL:https://reitverein-wiesloch.de/veranstaltung/reitturnier-2026/
LOCATION:Reit- und Fahrverein Wiesloch\, Reitplatzweg 17\, 69168 Wiesloch
END:VEVENT
BEGIN:VEVENT
DTSTART;TZID=Europe/Berlin:20260913T140000
DTEND;TZID=Europe/Berlin:20260913T160000
DTSTAMP:20260421T174719
CREATED:20260420T215200Z
LAST-MODIFIED:20260420T220233Z
UID:6781-1789308000-1789315200@reitverein-wiesloch.de
SUMMARY:Ponyreiten
DESCRIPTION:Am 13.09.2026 lädt der Reit- und Fahrverein Wiesloch Kinder zu einem geführten Ponyreiten auf unserer Anlage ein. Die jungen Teilnehmer können dabei erste Erfahrungen im sicheren Umgang mit unseren Ponys sammeln und kurze Runden auf dem Pferderücken genießen. \nFür eine kleine Auswahl an Snacks und Getränken ist gesorgt. Wer unsere Ponys unterstützen möchte\, darf gerne eine kleine Spende hinterlassen.
URL:https://reitverein-wiesloch.de/veranstaltung/ponyreiten-6/
LOCATION:Reit- und Fahrverein Wiesloch\, Reitplatzweg 17\, 69168 Wiesloch
END:VEVENT
BEGIN:VEVENT
DTSTART;VALUE=DATE:20261003
DTEND;VALUE=DATE:20261005
DTSTAMP:20260421T174719
CREATED:20260420T220528Z
LAST-MODIFIED:20260420T220859Z
UID:6787-1790985600-1791158399@reitverein-wiesloch.de
SUMMARY:Voltigierturnier 2026
DESCRIPTION:Der Reit- und Fahrverein Wiesloch lädt herzlich zum jährlichen Voltigierturnier auf unserer Anlage ein. Voltigiergruppen\, Duos und Einzelvoltigierer aus der Region zeigen ihr Können und präsentieren beeindruckende Pflicht- und Kürübungen auf dem galoppierenden Pferd. \nVon Nachwuchsgruppen bis hin zu erfahrenen Voltigierathleten ist ein breites sportliches Spektrum vertreten. Die Zuschauer dürfen sich auf kreative Choreografien\, harmonische Teamarbeit und beeindruckende Athletik freuen. \nFür Verpflegung ist wie immer bestens gesorgt. Wir freuen uns auf zahlreiche Besucher und zwei spannende Wettkampftage rund um den Voltigiersport.
URL:https://reitverein-wiesloch.de/veranstaltung/voltigierturnier-2026/
LOCATION:Reit- und Fahrverein Wiesloch\, Reitplatzweg 17\, 69168 Wiesloch
END:VEVENT
END:VCALENDAR