BEGIN:VCALENDAR
VERSION:2.0
PRODID:-//Reitverein Wiesloch - ECPv6.15.11//NONSGML v1.0//EN
CALSCALE:GREGORIAN
METHOD:PUBLISH
X-ORIGINAL-URL:https://reitverein-wiesloch.de
X-WR-CALDESC:Veranstaltungen für Reitverein Wiesloch
REFRESH-INTERVAL;VALUE=DURATION:PT1H
X-Robots-Tag:noindex
X-PUBLISHED-TTL:PT1H
BEGIN:VTIMEZONE
TZID:Europe/Berlin
BEGIN:DAYLIGHT
TZOFFSETFROM:+0100
TZOFFSETTO:+0200
TZNAME:CEST
DTSTART:20250330T010000
END:DAYLIGHT
BEGIN:STANDARD
TZOFFSETFROM:+0200
TZOFFSETTO:+0100
TZNAME:CET
DTSTART:20251026T010000
END:STANDARD
BEGIN:DAYLIGHT
TZOFFSETFROM:+0100
TZOFFSETTO:+0200
TZNAME:CEST
DTSTART:20260329T010000
END:DAYLIGHT
BEGIN:STANDARD
TZOFFSETFROM:+0200
TZOFFSETTO:+0100
TZNAME:CET
DTSTART:20261025T010000
END:STANDARD
BEGIN:DAYLIGHT
TZOFFSETFROM:+0100
TZOFFSETTO:+0200
TZNAME:CEST
DTSTART:20270328T010000
END:DAYLIGHT
BEGIN:STANDARD
TZOFFSETFROM:+0200
TZOFFSETTO:+0100
TZNAME:CET
DTSTART:20271031T010000
END:STANDARD
END:VTIMEZONE
BEGIN:VEVENT
DTSTART;TZID=Europe/Berlin:20260510T140000
DTEND;TZID=Europe/Berlin:20260510T160000
DTSTAMP:20260421T211809
CREATED:20260420T220824Z
LAST-MODIFIED:20260420T220824Z
UID:6791-1778421600-1778428800@reitverein-wiesloch.de
SUMMARY:Ponyreiten
DESCRIPTION:Am 10.05.2026 findet auf der Reitanlage des Reit- und Fahrvereins Wiesloch ein kostenfreies\, geführtes Ponyreiten für Kinder statt. Die kleinen Besucher können dabei erste Erfahrungen im Umgang mit unseren Ponys sammeln und sich behutsam an das Reiten herantasten. \nFür kleine Snacks und Getränke ist gesorgt. Unsere vierbeinigen Helfer freuen sich über eine kleine Spende.
URL:https://reitverein-wiesloch.de/veranstaltung/ponyreiten-7/
LOCATION:Reit- und Fahrverein Wiesloch\, Reitplatzweg 17\, 69168 Wiesloch
END:VEVENT
END:VCALENDAR