BEGIN:VCALENDAR
VERSION:2.0
PRODID:-//Reitverein Wiesloch - ECPv6.15.11//NONSGML v1.0//EN
CALSCALE:GREGORIAN
METHOD:PUBLISH
X-WR-CALNAME:Reitverein Wiesloch
X-ORIGINAL-URL:https://reitverein-wiesloch.de
X-WR-CALDESC:Veranstaltungen für Reitverein Wiesloch
REFRESH-INTERVAL;VALUE=DURATION:PT1H
X-Robots-Tag:noindex
X-PUBLISHED-TTL:PT1H
BEGIN:VTIMEZONE
TZID:Europe/Berlin
BEGIN:DAYLIGHT
TZOFFSETFROM:+0100
TZOFFSETTO:+0200
TZNAME:CEST
DTSTART:20240331T010000
END:DAYLIGHT
BEGIN:STANDARD
TZOFFSETFROM:+0200
TZOFFSETTO:+0100
TZNAME:CET
DTSTART:20241027T010000
END:STANDARD
BEGIN:DAYLIGHT
TZOFFSETFROM:+0100
TZOFFSETTO:+0200
TZNAME:CEST
DTSTART:20250330T010000
END:DAYLIGHT
BEGIN:STANDARD
TZOFFSETFROM:+0200
TZOFFSETTO:+0100
TZNAME:CET
DTSTART:20251026T010000
END:STANDARD
BEGIN:DAYLIGHT
TZOFFSETFROM:+0100
TZOFFSETTO:+0200
TZNAME:CEST
DTSTART:20260329T010000
END:DAYLIGHT
BEGIN:STANDARD
TZOFFSETFROM:+0200
TZOFFSETTO:+0100
TZNAME:CET
DTSTART:20261025T010000
END:STANDARD
END:VTIMEZONE
BEGIN:VEVENT
DTSTART;VALUE=DATE:20250627
DTEND;VALUE=DATE:20250630
DTSTAMP:20260424T110114
CREATED:20250414T094443Z
LAST-MODIFIED:20250414T094443Z
UID:6377-1750982400-1751241599@reitverein-wiesloch.de
SUMMARY:Sommerturnier 2025
DESCRIPTION:Vom 27.06-29.06.2022 dürfen wir euch auf unserer Anlage zum diesjährigen Reitturnier begrüßen. Neben dem Sport wird es auch eine tolle Verpflegung aus unserer Turnierküche geben. Wir freuen uns auf ein tolles Wochenende!
URL:https://reitverein-wiesloch.de/veranstaltung/sommerturnier-2025/
LOCATION:Reit- und Fahrverein Wiesloch\, Reitplatzweg 17\, 69168 Wiesloch
END:VEVENT
END:VCALENDAR